BEGIN:VCALENDAR
VERSION:2.0
PRODID:-//ChurchDev//Events//EN
CALSCALE:GREGORIAN
METHOD:PUBLISH
BEGIN:VEVENT
UID:2904-20240810@www.stjamesholymbc.com
SUMMARY:Women’s Meeting
DTSTART:20240810T180000Z
DTEND:20240810T190000Z
DESCRIPTION:Start your weekend with purpose and peace. Join us every second Saturday morning for a relaxed time of scripture\, heartfelt conversation\, and prayer. Whether you’re a lifelong believer or just beginning to explore the Word\, there’s a seat at the table for you. Come as you are—coffee is on us!\\n\\nhttps://www.stjamesholymbc.com/events/womens-meeting/
LOCATION:3624 Stockton Blvd\, Sacramento\, CA
URL:https://www.stjamesholymbc.com/events/womens-meeting/
DTSTAMP:20260419T205244Z
END:VEVENT
END:VCALENDAR
