BEGIN:VCALENDAR
VERSION:2.0
PRODID:-//ChurchDev//Events//EN
CALSCALE:GREGORIAN
METHOD:PUBLISH
BEGIN:VEVENT
UID:2956-20240803@www.stjamesholymbc.com
SUMMARY:Brotherhood Meeting
DTSTART:20240803T160000Z
DTEND:20240803T171500Z
DESCRIPTION:https://www.stjamesholymbc.com/events/brotherhood-meeting/
LOCATION:3624 Stockton Blvd\, Sacramento\, CA
URL:https://www.stjamesholymbc.com/events/brotherhood-meeting/
DTSTAMP:20260419T205134Z
END:VEVENT
END:VCALENDAR
