BEGIN:VCALENDAR
VERSION:2.0
PRODID:-//ChurchDev//Events//EN
CALSCALE:GREGORIAN
METHOD:PUBLISH
BEGIN:VEVENT
UID:3268-20260403@www.stjamesholymbc.com
SUMMARY:Youth Movie Night
DTSTART:20260404T010000Z
DTEND:20260404T040000Z
DESCRIPTION:https://www.stjamesholymbc.com/events/youth-movie-night/
LOCATION:3624 Stockton Blvd\, Sacramento\, CA
URL:https://www.stjamesholymbc.com/events/youth-movie-night/
DTSTAMP:20260419T205556Z
END:VEVENT
END:VCALENDAR
