BEGIN:VCALENDAR
VERSION:2.0
PRODID:-//ChurchDev//Events//EN
CALSCALE:GREGORIAN
METHOD:PUBLISH
BEGIN:VEVENT
UID:3269-20260425@www.stjamesholymbc.com
SUMMARY:Choir Outing
DTSTART:20260425T190000Z
DTEND:20260425T200000Z
DESCRIPTION:https://www.stjamesholymbc.com/events/choir-outing-2/
LOCATION:3624 Stockton Blvd\, Sacramento\, CA
URL:https://www.stjamesholymbc.com/events/choir-outing-2/
DTSTAMP:20260419T205135Z
END:VEVENT
END:VCALENDAR
